BEGIN:VCALENDAR
VERSION:2.0
PRODID:-//Beaujolais Bistro - ECPv6.15.17//NONSGML v1.0//EN
CALSCALE:GREGORIAN
METHOD:PUBLISH
X-ORIGINAL-URL:https://beaujolaisbistro.com
X-WR-CALDESC:Events for Beaujolais Bistro
REFRESH-INTERVAL;VALUE=DURATION:PT1H
X-Robots-Tag:noindex
X-PUBLISHED-TTL:PT1H
BEGIN:VTIMEZONE
TZID:UTC
BEGIN:STANDARD
TZOFFSETFROM:+0000
TZOFFSETTO:+0000
TZNAME:UTC
DTSTART:20210101T000000
END:STANDARD
END:VTIMEZONE
BEGIN:VEVENT
DTSTART;VALUE=DATE:20221110
DTEND;VALUE=DATE:20221111
DTSTAMP:20260422T063513
CREATED:20221103T013240Z
LAST-MODIFIED:20221103T013434Z
UID:3364-1668038400-1668124799@beaujolaisbistro.com
SUMMARY:Beaujolais Bistro's 20th Anniversary Prefix Dinner
DESCRIPTION:Join us to celebrate Beaujolais Bistro’s 20th Anniversary with a special Prefix menu by Chef and Owner Bill Gilbert. We are so grateful to our family\, friends\, staff and incredible patrons who have supported us over the years and made our restaurant what it is today. Please call 775-323-2227 to make a reservation.
URL:https://beaujolaisbistro.com/event/beaujolais-bistros-20th-anniversary-prefix-dinner/
LOCATION:Beaujolais Bistro\, 753 Riverside Drive\, Reno\, 89503\, United States
END:VEVENT
END:VCALENDAR