BEGIN:VCALENDAR
VERSION:2.0
PRODID:-//Beaujolais Bistro - ECPv6.15.17//NONSGML v1.0//EN
CALSCALE:GREGORIAN
METHOD:PUBLISH
X-ORIGINAL-URL:https://beaujolaisbistro.com
X-WR-CALDESC:Events for Beaujolais Bistro
REFRESH-INTERVAL;VALUE=DURATION:PT1H
X-Robots-Tag:noindex
X-PUBLISHED-TTL:PT1H
BEGIN:VTIMEZONE
TZID:UTC
BEGIN:STANDARD
TZOFFSETFROM:+0000
TZOFFSETTO:+0000
TZNAME:UTC
DTSTART:20210101T000000
END:STANDARD
END:VTIMEZONE
BEGIN:VEVENT
DTSTART;VALUE=DATE:20221117
DTEND;VALUE=DATE:20221118
DTSTAMP:20260422T063513
CREATED:20221118T012127Z
LAST-MODIFIED:20221118T012202Z
UID:3510-1668643200-1668729599@beaujolaisbistro.com
SUMMARY:Beaujolais Nouveau Day
DESCRIPTION:Join us for a prefix menu to celebrate the launch of the 2022 Beaujolais Nouveau Domaine Dupeuble et fils Kermit Lynch
URL:https://beaujolaisbistro.com/event/beaujolais-nouveau-day/
LOCATION:Beaujolais Bistro\, 753 Riverside Drive\, Reno\, 89503\, United States
END:VEVENT
END:VCALENDAR